BEGIN:VCALENDAR
VERSION:2.0
PRODID:-//49th Annual Course in Cytometry//EN
CALSCALE:GREGORIAN
METHOD:PUBLISH
BEGIN:VEVENT
DTSTART;VALUE=DATE:20260815
DTEND;VALUE=DATE:20260821
SUMMARY:49th Annual Course in Cytometry
DESCRIPTION:A world-class intensive course in flow cytometry - hands-on labs and lectures taught by recognized experts.\n\nOpening Reception: Aug 15\, 4:30-7:30 PM\nClosing Reception: Aug 20\, 5:30-8:30 PM\n\nRegister: https://pci.jotform.com/form/260828174264158\nWebsite: https://sdcytocourse.org/2026/
LOCATION:Sanford Burnham Prebys Medical Discovery Institute\, 10901 North Torrey Pines Road\, La Jolla\, CA 92037
URL:https://sdcytocourse.org/2026/
STATUS:CONFIRMED
TRANSP:OPAQUE
END:VEVENT
END:VCALENDAR
